
BEGIN:VCALENDAR
VERSION:1.0
BEGIN:VEVENT
SUMMARY:San Francisco Awards Reception
DESCRIPTION:
	The Peggy Browning Fund&#39;s San Francisco Awards Reception recognizes leaders in the region for their achievements on behalf of workers.

	The reception begins at 5:30 p.m. with cocktails, networking and buffet.&nbsp; The awards ceremony begins at 7:15 p.m.&nbsp; Business Attire

	Honoring:

	Jason Rabinowitz, Secretary-Treasurer, Teamsters Local 2010 &amp; Director, IBT Public Services Division
	Stephen P. Berzon, Founding Partner, Altshuler Berzon LLP
	Roxanne Sanchez, Senior Advisor, SEIU
	United Domestic Workers of America

	Host Committee:
	Rome Aloise&nbsp;&nbsp; Michael Artz&nbsp;&nbsp; Nicole Berner&nbsp;&nbsp; Robert Bonsall&nbsp;&nbsp; Richard Brean&nbsp;&nbsp; Randy Cammack&nbsp;&nbsp; Jessica Chu&nbsp;&nbsp; Catherine Cobb&nbsp;&nbsp; Lisa Demidovich&nbsp;&nbsp; Niraj Ganatra&nbsp;&nbsp; Ruben Garcia&nbsp;&nbsp; Susan Garea&nbsp;&nbsp; Richard Grosboll&nbsp;&nbsp; Ron Herrera&nbsp;&nbsp; James P. Hoffa&nbsp;&nbsp; David Jury&nbsp;&nbsp; Rhonda Gelman Kelley&nbsp;&nbsp; James Kokolas&nbsp;&nbsp; Danielle Leonard&nbsp;&nbsp; Stacey Leyton&nbsp;&nbsp; Joseph Lurie&nbsp;&nbsp; Mary Anne Moffa&nbsp;&nbsp; Lindsay Nicholas&nbsp;&nbsp; John Pierre&nbsp;&nbsp; Geoffrey Pillar&nbsp;&nbsp; Vincent Pitta&nbsp;&nbsp; Art Pulaski&nbsp;&nbsp; Richard Resnick&nbsp;&nbsp; Michael Rubin&nbsp;&nbsp; Susan Sachen&nbsp;&nbsp; Jahan Sagafi&nbsp;&nbsp; Jay Smith&nbsp;&nbsp; Patrick Szymanski&nbsp;&nbsp; Gwynne Wilcox

	Sponsors (As of 2-6-20)

	Steward
	Altshuler Berzon LLP
	Int&#39;l Brotherhood of Teamsters
	Teamsters Joint Council 7
	Teamsters Local 2010

	Guardian
	Beeson, Tayer &amp; Bodine
	SEIU California
	SEIU Local 1021
	Teamsters Local 63
	Teamsters Local 350
	Teamsters Local 853
	United Domestic Workers of America
	
	Fellow
	California Labor Federation
	California Teachers Association
	Ironworkers District Council State of CA &amp; Vicinity
	Kraw Law Group, APC
	Leonard Carder LLP
	Neyhart, Anderson, Flynn &amp; Grosboll
	Teamsters Joint Council 42
	Teamsters Local 287

	Advocate
	AAVA Dental
	Airline Pilots Association
	ATU Local 1555
	BAC Mountain West Administrative DC
	IBEW Local 6
	IBEW Local 302
	IUOE Local 12
	Rosen Bien Galvan &amp; Grunfeld LLP
	Rothner, Segall &amp; Greenstone
	Teamsters California State Cannery Council
	Teamsters Local 986
	Teamsters Local 2785
	Trucker Huss, APC
	USW District 12

	Friend
	IUPAT District Council 16

	Sponsorship Levels

	Steward Sponsor $10,000+

	
		Recognition as an event sponsor in all event program books, in the PBF newsletter and on website
	
		Cover Ad in program book
	
		Recognition from the podium during the Awards Presentation
	
		Business Name/logo in Power Point display
	
		Twenty reservations (2 tables) to the reception


	Guardian Sponsor $5,000

	
		Recognition as the event sponsor in all event program books, in the PBF newsletter and on website
	
		Cover or Center Ad in program book
	
		Recognized from the podium during the Awards Presentation
	
		Business Name/logo in Power Point display
	
		Ten reservations (1 Table) to the reception


	Fellow Sponsor $2,500

	
		Recognition in all event program books and on website
	
		Gold Page Ad in program book
	
		Business Name/logo in Power Point display
	
		Four reservations to the reception


	Advocate Sponsor $1,000

	
		Recognition in all event program books and on website
	
		Full Page Ad in program book
	
		Business Name/logo in Power Point display
	
		Two reservations to the reception


	Levels Below Do Not Include Reservations to the Reception or Ads in the Program Book!

	Friend $500

	
		Listing in&nbsp;event program and on website


	Donor $250

	
		Listing in&nbsp;event program and on website


	Supporter $100

	
		Listing in event program


	Program Book Ads - Do Not Include Reservations!

	
		$1,000 Gold Page Ad (4.5&rdquo;W x 7.5&rdquo;H) Gold Ink
	
		$500 Full Page Ad B/W (4.5&rdquo;W x 7.5&rdquo;H)
	
		$400 Half Page Ad B/W (4.5&rdquo;W x 3.5&rdquo;H)


	Go To Sponsorship Form
		
LOCATION:San Francisco, CA - US - 780 Mission Street
DTSTART:20200213T173000
DTEND:20200213T203000
END:VEVENT
END:VCALENDAR
