
BEGIN:VCALENDAR
VERSION:1.0
BEGIN:VEVENT
SUMMARY:Washington, DC Stay-At-Home Request
DESCRIPTION:
	Before we were all ordered to stay-at-home, the Peggy Browning Fund had awarded Summer Fellowships to 90 talented students - our largest number to date.

	We&#39;re happy to report that all 90 students will be able to work this summer advocating for workers&#39; rights.

	We need you to dig deep even in this crisis and make your highest significant contribution to help us meet our financial goal. Just because we&rsquo;re not together over a catered supper and cocktail conversation doesn&rsquo;t mean we can&rsquo;t remain together in solidarity. 

	We will be producing a &ldquo;virtual&rdquo; program book, including ads and donor listings for your sponsorship and ad purchases. It will be emailed to our many supporters in the DC area, posted on our social media platforms and here on our website.&nbsp; Ad specifications are noted beside the ad listing below. The deadline for ads is June 23. 

	Please send the pdf or jpg of your ad to rkelley@peggybrowningfund.org. 

	View the DC Virtual Program Flip Book

	Or Download the DC Virtual Program PDF

	Sponsors (As of 8-25-30)

	Steward
	Laborers&#39; Int&#39;l Union of North America (LiUNA)
	Ullico, Inc.

	Guardian
	Sheet Metal Workers Local 100

	Advocate
	Baltimore-Washington Metro Building Trades Council
	O&#39;Donoghue &amp; O&#39;Donoghue LLP
	Slevin &amp; Hart, PC

	Friend
	Ellen A. Farrell
	Homer C. LaRue

	Donor
	Linda Dreeben

	Supporter
	Alicia Daly
	IBEW Local 1900
	Mary Anne Moffa
		
LOCATION: -  - 
DTSTART:20200623T173000
DTEND:20200623T203000
END:VEVENT
END:VCALENDAR
