
BEGIN:VCALENDAR
VERSION:1.0
BEGIN:VEVENT
SUMMARY:Los Angeles Virtual Awards Program
DESCRIPTION:
	The Peggy Browning Fund&#39;s 2021 Los Angeles Virtual Awards Program recognizes leaders in the region for their achievements on behalf of workers.

	Join us for our virtual program scheduled from 7:00 - 7:30 p.m. PST.&nbsp; You must have purchased either a sponsorship or a reservation(s) to attend.&nbsp; Information on how to log in to the program will be provided closer to the date. The deadline for ads in the virtual program book is Wednesday, February 24!

	Honoring:

	Eric Tate, Secretary-Treasurer, Teamsters Local 848
	Duncan Crabtree-Ireland, COO &amp; General Counsel, SAG-AFTRA
	Educators Campaign, United Teachers Los Angeles

	Host Committee:

	Rome Aloise&nbsp; Michael Artz&nbsp;&nbsp; Lucas Aubrey&nbsp; Richard Brean&nbsp; David Campbell&nbsp; Susan Davis&nbsp; Julie Gutman Dickinson&nbsp; Niraj Ganatra&nbsp; Mindy Garland&nbsp; Pamela Greenwalt&nbsp; Ron Herrera&nbsp; David Jury&nbsp; Joe Kaplon&nbsp; Rhonda Gelman Kelley&nbsp;&nbsp; James Kokolas&nbsp; Randy Korgan&nbsp; Danielle Leonard&nbsp; Joseph Lurie&nbsp; Stella Maloyan&nbsp; Mary Anne Moffa&nbsp; John Pierre&nbsp;&nbsp; Vincent Pitta&nbsp; Art Pulaski&nbsp; Glenn Rothner&nbsp; Susan Sachen&nbsp; Anthony Segall&nbsp; Maneesh Sharma &nbsp; Jay Smith&nbsp;&nbsp; Patrick Szymanski&nbsp; Robert Turner&nbsp; Manny Valenzuela&nbsp; Gwynne Wilcox

	Sponsors (As of March 4, 2021)

	Guardian
	Bush Gottlieb, A Law Corporation
	CA Conference Board of ATU
	Gilbert and Sackman
	Schwartz, Steinsapir, Dohrmann &amp; Sommers LLP
	SEIU Local 721
	SoundExchange
	Teamsters Joint Council 7
	Teamsters Joint Council 42
	Teamsters Local 350
	Teamsters Local 396
	Teamsters Local 853
	Teamsters Local 2010
	United Domestic Workers of America

	Fellow
	Altshuler Berzon LLP
	California Teachers Assoc.
	Hayes, Ortega &amp; Sanchez
	IATSE
	LiUNA Local 300
	Rothner, Segall &amp; Greenstone
	SAG-AFTRA
	Teamsters Local 315
	Teamsters Local 431
	USW District 12
	USW Local 675
	Wohlner Kaplon Cutler Halford &amp; Rosenfeld

	Advocate
	A.J. Longo &amp; Associates
	AFSCME Local 2626
	Bird Marella
	Building &amp; Construction Trades LA &amp; Orange Counties
	California Labor Federation
	Cohen, Weiss &amp; Simon LLP
	Ford &amp; Wallach
	Kaiser Permanente
	Los Angeles County Federation of Labor
	Reich, Adell &amp; Cvitan
	Teamsters Local 848
	UFCW Local 770
	United Teachers Los Angeles

	Friend
	LAANE
	Jani K. Rachelson
	Smith Steiner Vanderpool APC
	Teamsters 665

	Donor
	Anonymous
	Lisa Gomez
	Evan Hudson-Plush

	Supporter
	Mary Anne Moffa
	&nbsp;

	Sponsorship Levels

	During the pandemic, this program will be virtual only.&nbsp; Sponsorships and reservation purchases will continue and a code will be provided to enter the virtual program.&nbsp; The deadline for ads in the virtual program book is Wednesday, February 24th!

	Steward Sponsor $10,000+

	
		Recognition as an event sponsor in the virtual program book, in the PBF newsletter, on PBF website and in social media posts
	
		Cover Ad in virtual program book
	
		Recognition during the virtual Awards Program
	
		Business name/logo presented during the virtual program
	
		Twenty guest reservations provided with the virtual program link and entry code


	Guardian Sponsor $5,000

	
		Recognition as an event sponsor in the virtual program book, in the PBF newsletter, on PBF website and in social media posts
	
		Cover or Center Ad in virtual program book
	
		Recognized during the virtual Awards Program
	
		Business name/logo presented during the virtual program
	
		Ten reservations provided with virtual program link and entry code


	Fellow Sponsor $2,500

	
		Recognition in the virtual program book, in PBF newsletter, on PBF website and in social media posts
	
		Gold Page Ad in the virtual program book
	
		Four reservations provided with the virtual program link and entry code


	Advocate Sponsor $1,000

	
		Recognition in the virtual program book, and on website
	
		Full Page Ad in the virtual program book
	
		Two reservations provided with the virtual program link and entry code


	Levels Below Do Not Include Reservations to the Virtual Program or Ads in the Virtual Program Book!

	Friend $400

	
		Listing in the virtual program book and on website


	Donor $250

	
		Listing in the virtual program book and on website


	Supporter $100

	
		Listing in the virtual program book and on website


	Program Book Ads - Do Not Include Reservations! Ad deadline is Wednesday, February 24th!

	
		$1,000 Gold Page Ad (4.5&rdquo;W x 7.5&rdquo;H) Gold Ink
	
		$500 Full Page Ad B/W (4.5&rdquo;W x 7.5&rdquo;H)
	
		$300 Half Page Ad B/W (4.5&rdquo;W x 3.5&rdquo;H)


	
		Go To Sponsorship Form


	Charitable Solicitation Disclosure Statements
		
LOCATION: -  - 
DTSTART:20210303T190000
DTEND:20210303T193000
END:VEVENT
END:VCALENDAR
