
BEGIN:VCALENDAR
VERSION:1.0
BEGIN:VEVENT
SUMMARY:New York Awards Reception
DESCRIPTION:
	Join us as we present The Peggy Browning Award to:

	Kuba J. Brown | Business Manager, IUOE Local 94
	Daniel Ratner | Partner, Levy Ratner
	Nancy Hagans, RN, CCRN | President, NYSNA

	New York Hilton Midtown
	1335 Avenue of the Americas New York, NY 10019
	Tuesday April 25, 2023

	5:30 p.m. - Networking Reception &amp; Buffet
	6:30 p.m. - Awards Presentation

	Steward Sponsor
	Healthcare Education Project
	IUOE Local 94
	Pitta LLP
	Scheinman Arbitration

	Guardian Sponsor
	1199 SEIU
	Bond, Schoeneck &amp; King PLLC
	Cohen Weiss
	Gladstein Reif Meginniss
	Greater New York Hospital Association
	Hotel and Trades Council, AFL-CIO &amp; Local 6 UNITE HERE
	IUOE Local 14
	IUOE Local 150
	Levy Ratner
	NYSNA
	Realty Advisory Board

	Fellow Sponsor
	Boston Properties
	IUOE 30
	IUOE Local 15
	Kathleen Phillips
	League of Voluntary Hospitals and Homes of New York
	Penguin Maintenance &amp; Service
	Schultheis &amp; Panettieri
	Stacey Braun Associates / Peter Willis

	Advocate Sponsor
	AFL-CIO
	AFSCME
	Congress Asset Mgmt Company
	GFP
	Int&#39;l Union of Operating Engineers Local 57
	IATSE
	IUOE Local 4
	IUOE Local 77
	Local 2110 UAW
	Michael Balboni / Greater New York Health Care Facilities Assn.
	Pyle Rome Ehrenberg
	Teamsters
	Time of Day Media/Meghana Reddy&nbsp;

	Sponsorships, Tables, Tickets &nbsp; &nbsp; Ads Sales and Program Book


jQuery(document).ready(function () {
    var bboxFormIds = {bbox1: '2146b846-8be7-46f8-afc1-cadee2af2f1b', bbox2: 'af5015a4-a5a5-42f2-8231-ad66e480d34b'};
    jQuery('#bbox1, #bbox2').on('click', function() {
        // remove existing bbox-root
        jQuery('#bbox-root').remove();
        // add a new bbox-root
        jQuery('').insertAfter(jQuery('#bbox-tabs').parent());
        // get bbox form id
        var bboxFormId = bboxFormIds[jQuery(this).attr('id')];
        // execute code
        window.bboxInit = function () {
            bbox.showForm(bboxFormId);
        };
        (function () {
            var e = document.createElement('script'); e.async = true;
            e.src = 'https://bbox.blackbaudhosting.com/webforms/bbox-min.js';
            document.getElementsByTagName('head')[0].appendChild(e);
        }());
    });
});
	
.regpro_error{display:none;}	

		
LOCATION:New York, NY -  - 1335 Avenue of the Americas
DTSTART:20230425T173000
DTEND:20230425T203000
END:VEVENT
END:VCALENDAR
