
BEGIN:VCALENDAR
VERSION:1.0
BEGIN:VEVENT
SUMMARY:16th Annual National Law Students Workers’ Rights Conference
DESCRIPTION:
	If you&#39;re a law student interested in workers&#39; rights issues, the National Law Students Workers&#39; Rights Conference is an exciting opportunity for you to meet labor law experts and practitioners as well as other law students from throughout the nation. With an impressive lineup of speakers and workshop facilitators, the conference will help you make valuable contacts and gain thought-provoking, practical information as you discuss timely issues affecting workers&#39; rights.

	If you&#39;re a law student and would like to register for the conference, please scroll down to the registration area below.

	PLEASE NOTE:&nbsp;You must select ALL the options you need, regardless of who will be paying. At checkout you will have the option of making a partial payment. For example, if you are not a PBF Fellow, and PBF is sponsoring your attendancem you&#39;ll just need to pay $25 for the registration fee portion of the cost.

	If you would like to sponsor the conference, click the button below:

	
		Go to the Conference Sponsorship fORM

		
LOCATION:Linthicum Heights, Maryland - US - 
DTSTART:20141017T173000
DTEND:20141018T170000
END:VEVENT
END:VCALENDAR
