
BEGIN:VCALENDAR
VERSION:1.0
BEGIN:VEVENT
SUMMARY:Washington D.C. Awards Reception
DESCRIPTION:Join us as we present The Peggy Browning Award to:



&nbsp;

Penny Clark&nbsp;| Senior Counsel, Bredhoff &amp; Kaiser PLLC

Sean McGarvey | President, North America’s Building Trades Unions

Ellen O. Boardman&nbsp;| Managing Partner, O’Donoghue &amp; O’Donoghue LLP

&nbsp;

AFL-CIO Lobby &amp; Solidarity Room
815 Black Lives Matter Plz NW, Washington, DC 20005
Thursday, April 4th, 2024

Networking Reception &amp; Buffet
Followed by: Awards Presentation


Steward Sponsor

Bredhoff &amp; Kaiser PLLC
IBEW Local 26
International Union of Painters and Allied Trades
Laborers’ Int’l Union of North America
O’Donoghue &amp; O’Donoghue LLP
Plumbers Local 5 &nbsp;I &nbsp;Steamfitters Local 602 I &nbsp;MCAMW
Sherman Dunn, P.C.
Southern Company&nbsp;
UNITE HERE
United Association of Journeymen and Apprentices of PFI

&nbsp;

Guardian Sponsor


AFL-CIO
Anonymous
Bricklayers &amp; Allied Craftworkers International Union
Calibre CPA Group
Day &amp; Zimmermann NPS
IATSE Local 22
International Union of Elevator Constructors
IUOE Local 150
North America’s Building Trades Unions
Operative Plasterers’ &amp; Cement Masons’ International Association
Slevin &amp; Hart, P.C.
United Steelworkers
USW Local 7-1


&nbsp;

Fellow Sponsor


Amalgamated Transit Union
Barnard Iglitzin &amp; Lavitt LLP
Cheiron, Inc.
International Association of Fire Fighters
International Association of Bridge, Structural, Ornamental and Reinforcing Iron Workers, AFL-CIO&nbsp;
International Union of Operating Engineers
IUOE Local 15, 15A, 15B, 15C and 15D
Pacific Southwest Administrators
SAG-AFTRA
Schultheis &amp; Panettieri, LLP
Seafarers International Union
International Association of Sheet Metal, Air, Rail and Transportation Workers
Teamsters Joint Council 25



&nbsp;

Advocate Sponsor

AFL-CIO Union Lawyers Alliance
Alan Biller and Associates
Edison Electric Institute
Hammond and Shinners, P.C.
IBEW Local 24
IBEW Local 98
Laborers’ Local 300, LIUNA
Novak Francella LLC
Paul Whitehead
Quinn Connor Weaver Davies &amp; Rouco LLP
Richard Brean
Richard Griffin
Teamsters Local 315
UNITE HERE Local 25

&nbsp;



Friend Sponsor

Joyce Goldstein
Lynn K. Rhinehart
Maritime Trades Department, AFL-CIO
Matt Ginsburg

&nbsp;

Donor Sponsor

AFL-CIO Philadelphia Council&nbsp;
Anne Mayerson
Bruce R. Lerner
Jeremiah A. Collins
Kathy L. Kriege

&nbsp;

Supporter Level Donor

David J. Cohen &amp; Ruth Kevess-Cohen
Julia A. Clark &amp; Nicholas W. Clark
Brian A. Powers
Devki Virk
Jody Calemine
Nicole Berner
Wendy L. Kahn
Yona Rozen



&nbsp;




Peggy Browning Awards Reception - DC Host Committee

Michael L. Artz
Lucas R. Aubrey

Kathy Barnard
Richard J. Brean

David Jonathan Cohen

Jeremiah Collins

Leon Dayan
Antonia Domingo

Timothy J. Driscoll
Samantha Dulaney
Chuck Gilligan&nbsp;
Julie Gutman Dickinson
David Jury
James C. Kokolas
Danielle E. Leonard
Ingrid Nava

Emily R. Perez
John K. &nbsp;Pierre
Vincent F. Pitta

Fred Redmond

Lynn Rhinehart

Alex Roe

Richard P. Rouco
Maneesh Sharma
Liz Shuler
Jay Smith
Patrick J. Szymanski

Paul Whitehead

Jim Williams
Melissa Woods

&nbsp;

To inquire about becoming a DC Host Committee member, contact the PBF Team at info@peggybrowningfund.org


&nbsp;

  (function(d, s) {
    var js, el = d.getElementsByTagName(s)[0];
    window.BB_REG_FORM_ID = "19785f1c-e070-4d2d-ac68-07d31b7a7cc4";
    window.BB_REG_FORM_ENVIRONMENT_ID = "p-mroQErAE-Ei7Fm03jNi8PA";
    window.BB_REG_FORM_HEADER_HEIGHT = 0;  // If your page has a header/overlay, then you can set this value to your header height so that the payment form will scroll to the proper location when opened.
    js = d.createElement(s);
    js.src = "https://sky.blackbaudcdn.net/skyuxapps/registration-form/assets/online_registrations_form_loader_v4.330903d47b1fe743c0df4ede2a32c9c3.js";
    el.parentNode.insertBefore(js, el);
  })(document, "script");

.regpro_error{
  display:none;
}

		
LOCATION: -  - 
DTSTART:20240404T180000
DTEND:20240404T210000
END:VEVENT
END:VCALENDAR
