
BEGIN:VCALENDAR
VERSION:1.0
BEGIN:VEVENT
SUMMARY:Philadelphia Ceremony
DESCRIPTION:​

Our founder, Joseph Lurie, invites you to join him in celebrating the achievements of the Peggy Browning Fund and its legacy of supporting the next generation of workplace justice advocates. We hope that you will join us for a dinner reception &amp; networking event to celebrate the Peggy Browning Fund!&nbsp;​

This event provides a unique opportunity to honor the impact and legacy of our Founder, Joseph Lurie, who has established a foundational footprint within the Greater Philadelphia community. His contributions have been instrumental in advancing workplace justice and inspiring the next generation of advocates. Recognizing his legacy will reinforce the significance of PBF’s mission and deepen connections with the Philadelphia community.

&nbsp;

&nbsp;

Thursday, March 13th, 2025

SMART Local 19

1301 S. Columbus Blvd. Philadelphia, PA*

&nbsp;

5:30 p.m. - Networking Reception &amp; Buffet

7:15 p.m - Remarks from Community Leaders &amp; Founder

&nbsp;

*Location includes free parking


&nbsp;

Individual Tickets 

$250/each

&nbsp;

Tables

$2,500/each

&nbsp;


&nbsp;

Sponsorship Tiers&nbsp;

Steward Sponsor | $10,000

&nbsp;&nbsp;&nbsp;&nbsp;&nbsp;&nbsp;&nbsp;&nbsp;&nbsp;&nbsp;&nbsp; &nbsp;Recognition as an event sponsor in all event program books &amp; PBF website

Recognition from the podium during the Awards Presentation

&nbsp;Business Name/logo in Power Point Display

&nbsp;Twenty reservations (2 tables) for the reception&nbsp;

&nbsp;

Guardian Sponsor | $5,000

Recognition as an event sponsor in all event program books &amp; PBF website

Recognition from the podium during the Awards Presentation

&nbsp;Business Name/logo in Power Point Display

Ten reservations (1 table) for the reception&nbsp;

&nbsp;

Fellow Sponsor | $2,500

&nbsp;&nbsp;&nbsp;&nbsp;&nbsp;&nbsp;&nbsp;&nbsp;&nbsp;&nbsp;&nbsp; &nbsp;Recognition in all event program books &amp; PBF website

Business Name/logo in Power Point Display

&nbsp;Five reservations for the reception&nbsp;

&nbsp;

Non-ticketed Tiers&nbsp;

Friend Sponsor, $400** &nbsp;| &nbsp;Donor Sponsor, $250** &nbsp;| &nbsp;Supporter Sponsor, $100**&nbsp;

**The Above Sponsor Levels Include Recognition on the PBF Website, But Do Not Include Reservations to the Reception&nbsp;

&nbsp;


&nbsp;

&nbsp;

Guardian Sponsor

UFCW 1776

USW District 10

Willig, Williams &amp; Davidson

&nbsp;

Fellow Sponsor

USW District 4

&nbsp;

Friend Sponsor

Cummins &amp; Cummins LLP

Feinstein Doyle Payne &amp; Kravec LLC

Macey Swanson Hicks &amp; Sauer Law Firm

Markowitz &amp; Richman

&nbsp;

Donor Sponsor

Jonathan Johnsen

&nbsp;

Supporter Sponsor

Leslie Schlessinger

&nbsp;

Other Level Sponsor

Rich Brean

Fusco Gallagher Porcaro &amp; Monroe LLP

Hammond and Shinners, P.C.&nbsp;
&nbsp;



		
LOCATION: -  - 
DTSTART:20250313T173000
DTEND:20250313T200000
END:VEVENT
END:VCALENDAR
