
BEGIN:VCALENDAR
VERSION:1.0
BEGIN:VEVENT
SUMMARY:Los Angeles Awards Reception
DESCRIPTION:&nbsp;

Join us as we present The Peggy Browning Award to:



&nbsp;

Julie Gutman Dickinson, Partner, Bush Gottlieb, a Law Corporation

David Huerta,&nbsp;&nbsp;President, SEIU-United Service Workers West

State Building and Construction Trades Council of California&nbsp;(SBCTC)

&nbsp;


&nbsp;

IATSE Local 80

2520 West Olive Avenue, Suite 200
Burbank, California 91505

&nbsp;



Thursday, November 6th, 2025

6:00pm - Networking, Open Bar and Buffet

7:30pm - Award Presentations

&nbsp;

Parking

Ample free parking

&nbsp;



Registration, Sponsorship and Pay Information


Below are the levels at which to support this fundraising event. Accepted payment types: Check (mailed to 100 S. Broad St, Ste 1218, Philadelphia, PA 19110), ACH (inquire at info@peggybrowningfund.org), or through our online form below.


Registration and Sponsorship Form


Ads - send to&nbsp;info@peggybrowningfund.org&nbsp;ASAP

Individual Tickets

$250/each

&nbsp;&nbsp;

Tables

$2,500/each

&nbsp;

Sponsorship Tiers

Steward Sponsor | $10,000

Twenty reservations (2 tables) for the reception

Recognition as an event sponsor in all event program books &amp; PBF website

Cover Ad in the program book

Recognition from the podium during the Awards Presentation

Business Name/logo in Power Point Display

&nbsp;

Guardian Sponsor | $5,000

Ten reservations (1 table) for the reception

Recognition as an event sponsor in all event program books &amp; PBF website

Color Ad in the program book

Recognition from the podium during the Awards Presentation

Business Name/logo in Power Point Display

&nbsp;

Fellow Sponsor | $2,500

Four reservations for the reception

Recognition in all event program books &amp; PBF website

Gold Page Ad in the program book

Business Name/logo in Power Point Display

&nbsp;

Advocate Sponsor | $1,000

Two reservations for the reception

Recognition in all event program books &amp; PBF website

Full Page Black &amp; White Ad in the program book

Business Name/logo in Power Point Display

Two reservations for the reception

&nbsp;

Non-ticketed Tiers

Friend Sponsor, $400**&nbsp; |&nbsp; Donor Sponsor, $250**&nbsp; |&nbsp; Supporter Sponsor, $100**

&nbsp;

Gold Page Ad, $1,000 | Full Page Ad, $500 | Half Page Ad $300

&nbsp;

**The Above Sponsor Levels Include Recognition on the PBF Website, But Do Not Include Reservations to the Reception


You can find our ad guideline&nbsp;here!



Steward Sponsor

State Building Trades

&nbsp;

Guardian Sponsor

Pacific Southwest Administrators
Robbins Geller Rudman &amp; Dowd LLP
California State Pipe Trades Council
Altshuler Berzon
Bush Gottlieb, a Law Corporation
IBEW Local 11
UA Local 393
IBEW Local 6

&nbsp;

Fellow Sponsor

Teamsters Local 2010
Kraw Law Group
Schwartz, Steinsapir, Dohrmann &amp; Sommers LLP
Teamsters Local 572
Plumbers &amp; Steamfitters Local Union 342
Peter Dickinson and Julie Gutman Dickinson
Insulators Local 16
District Council of Iron Workers
CA-NV Conference of Operating Engineers

&nbsp;

Advocate Sponsor

Fern Steiner
Pat Szymanski
LiUNA 300
SMART Local 105
Eugene Eisner
Jim &amp; Yvonne Rutkowski
Bredhoff &amp; Kaiser
Lawyers for Justice, PC
Jason Wojciechowski
Weinberg, Roger &amp; Rosenfeld
IEUC Local 8

&nbsp;

Friend Sponsor

Anonymous

&nbsp;

Donor Sponsor&nbsp;

CA School Employee Association
Julie Yanow - "This donation is made by Julie Yanow and Ron Kutak, with much love, in honor of Julie Gutman Dickinson and her many accomplishments in the field of labor law and beyond."&nbsp;

&nbsp;

Supporter Level Sponsor

Reich, Adell &amp; Cvitan
Robert S. Giolito

&nbsp;

Other Supporters

Cohen Weiss and Simon
I.A.T.S.E.
SEIU Local 49
SEIU 6
Reich, Adell &amp; Cvitan
USW Local 675
Stella Maloyan -&nbsp;"Dear Julie, you are Brilliant, congrats for this great honor!"
Jaimie Carlos
Teamsters Local 848
Teamsters Local 396
Teamsters Local 996
LA/Orange Counties Building Trades Coucils
Inland Empire (also called San Bernardino-Riverside) Building Trades Councils
Program for Torture Victima
Randi Silverman
Friends of Julie Gutman Dickinson
Rothner, Segall &amp; Greenstone

&nbsp;


Host Committee


Michael L. Artz, &nbsp;AFSCME

Lucas R. Aubrey, Sherman Dunn, P.C.

Patrick Blair, Allison, Slutsky &amp; Kennedy&nbsp; &nbsp;

Amy Bokerman, Hotel and Gaming Trades Council, AFL-CIO

Richard J. Brean, Retired, USW

Sandra Diaz, SEIU USWW

Hector De Haro, Bush Gottlieb

Lisa Demidovich, Altshuler Berzon LLP

Antonia Domingo, United Steelworkers of America

Samantha Dulaney, IATSE

Demi Estudillo, SEIU USWW

Monica Guizar, SEIU

Mackenzie Hunter, SBCTC

David Jury, United Steelworkers of America

James C. Kokolas, Calibre CPA Group, PLLC

Danielle E. Leonard, Altshuler Berzon LLP

Mark Mulliner, SBCTC

Ingrid Nava, SEIU

Brooke Patton, SBCTC

Vincent F. Pitta, Pitta LLP

Christian Ramirez, SEIU USWW

Alex Roe, AFL-CIO Union Lawyers Alliance

Maneesh Sharma, AFL-CIO

Sebastin Silva, SEIU USWW

Jay Smith, Gilbert &amp; Sackman

Patrick J. Szymanski, Strategic Organizing Center

Jason Wojciechowski, Bush Gottlieb

Melissa Woods, Cohen, Weiss and Simon LLP






		
LOCATION: -  - 
DTSTART:20251106T180000
DTEND:20251106T203000
END:VEVENT
END:VCALENDAR
