
BEGIN:VCALENDAR
VERSION:1.0
BEGIN:VEVENT
SUMMARY:Philadelphia Awards Reception
DESCRIPTION:
	The Peggy Browning Fund&#39;s Philadelphia Awards Reception recognizes leaders in the region for their achievements on behalf of workers.

	The reception begins at 5:30 p.m. with cocktails, networking and a buffet dinner.&nbsp; The awards ceremony begins at 7:15 p.m.

	Host Committee:

	Michael Artz&nbsp;&nbsp; Joseph Ashdale&nbsp;&nbsp; Pasquale Bianculli&nbsp;&nbsp; Neal Bisno&nbsp;&nbsp; Richard Bloomingdale&nbsp;&nbsp; Richard Brean&nbsp;&nbsp; Daniel Brent&nbsp;&nbsp; Robert Curley&nbsp;&nbsp; Shyam Das&nbsp;&nbsp; Stuart Davidson&nbsp;&nbsp; Walter DeTreux&nbsp;&nbsp; John Dougherty&nbsp;&nbsp; Kenneth Egger&nbsp;&nbsp; Patrick Eiding&nbsp;&nbsp; David Fillman&nbsp;&nbsp; Anthony Gallagher&nbsp;&nbsp; Michael Hanlon&nbsp;&nbsp; Walter Higgins&nbsp;&nbsp; Kenneth Jarin&nbsp;&nbsp; Charles Joyce&nbsp;&nbsp; Rhonda Gelman Kelley&nbsp;&nbsp; Michele Kessler&nbsp;&nbsp; Ted Kirsch&nbsp;&nbsp; James Kokolas&nbsp;&nbsp; Barbara Lichtman&nbsp;&nbsp; Joseph Lurie&nbsp;&nbsp; Gary Masino&nbsp;&nbsp; Judith Meyer&nbsp;&nbsp; Kathleen Miller&nbsp;&nbsp; Wayne Miller&nbsp;&nbsp; Mary Anne Moffa&nbsp;&nbsp; Robert O&#39;Brien&nbsp;&nbsp; Dennis Pagliotti&nbsp;&nbsp; Samuel Pond&nbsp;&nbsp; Regina Reardon&nbsp;&nbsp; Lynn Rhinehart&nbsp;&nbsp; Richard Sigmond&nbsp;&nbsp; Samuel Spear&nbsp;&nbsp; Alan Symonette&nbsp;&nbsp; Patrick Szymanski&nbsp;&nbsp; Hon. Christine Tartaglione&nbsp;&nbsp; Dennis P. Walsh&nbsp;&nbsp; Jonathan Walters&nbsp;&nbsp; Gwynne Wilcox&nbsp;&nbsp; Deborah Willig&nbsp;&nbsp; Herman Wooden

	Sponsorship Levels

	Steward Sponsor $10,000+

	
		Recognition as an event sponsor in all event program books, in the PBF newsletter and on website
	
		Cover Ad in program book
	
		Recognition from the podium during the Awards Presentation
	
		Business Name/logo in Power Point display
	
		Sixteen reservations to the reception


	Guardian Sponsor $5,000

	
		Recognition as the event sponsor in all event program books, in the PBF newsletter and on website
	
		Cover or Center Ad in program book
	
		Recognized from the podium during the Awards Presentation
	
		Business Name/logo in Power Point display
	
		Eight reservations to the reception


	Fellow Sponsor $2,500

	
		Recognition in all event program books, in the PBF newsletter and on website
	
		Gold Page Ad in program book
	
		Business Name/logo in Power Point display
	
		Four reservations to the reception


	Advocate Sponsor $1,000

	
		Recognition in all event program books, in the PBF newsletter and on website
	
		Full Page Ad in program book
	
		Business Name/logo in Power Point display
	
		Two reservations to the reception


	Levels Below Do Not Include Reservations to the Reception or Ads in the Program Book!

	Friend $500

	
		Listing in&nbsp;event program and on website


	Donor $250

	
		Listing in&nbsp;event program and on website


	Supporter $100

	Program Book Ads - Do Not Include Reservations!

	
		$500 Gold Page Ad (4.5&rdquo;W x 7.5&rdquo;H) Gold Ink
	
		$400 Full Page Ad B/W (4.5&rdquo;W x 7.5&rdquo;H)
	
		$300 Half Page Ad B/W (4.5&rdquo;W x 3.5&rdquo;H)


	Please supply ad on or before February 25, 2015.&nbsp;Electronic files preferred (please include original file with type fonts and graphics/images). Camera-ready copy accepted. Ads may be emailed to rkelley@peggybrowningfund.org. Ads received after deadline may be added to a supplement. For further information, call Rhonda Gelman Kelley, CFRE, Director of Development and Marketing, at 215-517-7751.

	
		Go To Sponsorship Form


	&nbsp;
		
LOCATION:Philadelphia, PA - US - 1301 S. Columbus Boulevard
DTSTART:20150319T173000
DTEND:20150319T203000
END:VEVENT
END:VCALENDAR
