
BEGIN:VCALENDAR
VERSION:1.0
BEGIN:VEVENT
SUMMARY:Chicago Awards Reception
DESCRIPTION:
	The Peggy Browning Fund&#39;s Chicago Awards Reception recognizes leaders in the region for their achievements on behalf of workers.

	The reception begins at 6:00 p.m. with cocktails, networking and buffet.&nbsp; The awards ceremony begins at 7:30 p.m.

	Honoring:

	James P. Connolly, Business Manager, Laborers&#39; District Council of Chicago &amp; Vicinity
	 Stanley Eisenstein, Esq., Katz, Friedman, Eagle, Eisenstein, Johnson &amp; Bareck, PC
	Craig Rosenbaum, Esq., Executive Director &amp; General Counsel, Chicago News Guild

	Host Committee:
	Ralph Affrunti&nbsp;&nbsp; Anthony Alfano&nbsp;&nbsp; Sarah Arendt&nbsp;&nbsp; Michael Artz&nbsp;&nbsp; Phillip Bareck&nbsp;&nbsp; Barry Bennett&nbsp;&nbsp; Robert Bloch&nbsp;&nbsp; Mitch Bramsteadt&nbsp;&nbsp; Richard Brean&nbsp;&nbsp; Grace Catania&nbsp;&nbsp; Gil Cornfield&nbsp;&nbsp; Ian Elfenbaum&nbsp;&nbsp; Joshua File&nbsp;&nbsp; Don Finn&nbsp;&nbsp; Niraj Ganatra&nbsp;&nbsp; Angie Cowan Hamada&nbsp;&nbsp; Terrence Hancock&nbsp;&nbsp; Terrence Healy&nbsp;&nbsp; Brian Hickey&nbsp;&nbsp; David Huffman-Gottschling&nbsp;&nbsp; Richard Johnson&nbsp;&nbsp; Rhonda Gelman Kelley &nbsp; Wes Kennedy &nbsp; James Kokolas &nbsp; Karen Kent &nbsp; Charles LoVerde, III &nbsp; Joseph Lurie &nbsp; Mary Anne Moffa &nbsp; Gail Mrozowski &nbsp; Dale Pierson&nbsp;&nbsp; Vincent Pitta&nbsp;&nbsp; Robin Potter&nbsp;&nbsp; Jorge Ramirez&nbsp;&nbsp; Richard Resnick&nbsp;&nbsp; Lynn Rhinehart&nbsp;&nbsp; Jay Smith&nbsp;&nbsp; James Sweeney&nbsp;&nbsp; Patrick Szymanski&nbsp;&nbsp; Don Viller&nbsp;&nbsp; Devki Virk&nbsp; Gwynne Wilcox

	Sponsors (As of Nov. 8, 2017)

	Steward
	IUOE Local 150
	Laborers&#39; District Council of Chicago &amp; Vicinity
	LiUNA Great Lakes Region Organizing Committee

	Guardian 
	Dowd, Bloch, Bennett, Cervone, Auerbach &amp; Yokich
	The Gittler Family
	Katz, Friedman, Engle, Eisenstein, Johnson &amp; Bareck, PC
	Laborers&#39; Int&#39;l Union of North America
	LiUNA! Local 4
	USW District 7

	Fellow 
	Bricklayers &amp; Allied Craftworkers ADC1 of Illinois
	Chicago Area LECET
	Chicago Federation of Labor
	Chicago Laborers&#39; District Council - LDCLMCC
	Elfenbaum, Evers &amp; Amarilio, PC
	Friends of Michael J. Madigan
	IUOE Local 399
	LiUNA Local 1
	LiUNA Local 2
	LMCC Chicago
	Painters&#39; District Council 14
	Segal Consulting
	SEIU Healthcare Illinois &amp; Indiana
	Teamsters Joint Council 25
	Teamsters Local 731
	UNITE HERE Local 1
	USW Local 7-1
	
	Advocate 
	Allison, Slutsky &amp; Kennedy
	Bansley and Kiener, LLP
	Calibre CPA Group, PLLC
	Chicago Building Trades Council
	Cigna
	Cornfield and Feldman
	G&amp;R Public Law and Strategies
	Illinois Advocates, LLC
	Illinois Education Association
	IUE-CWA Local 800
	Jacob, Burns, Orlove &amp; Hernandez
	LiUNA Local 1092
	LiUNA Local 76
	Medical Cost Management Corp.
	NABET-CWA Local 41
	National Investment Services, Inc.
	Roofers &amp; Waterproofers Local 11
	UAW Region 4
	UFCW Local 881
	UNITE HERE Local 450
	USW District 7

	Friend 
	AFSCME Council 31
	Illinois AFL-CIO
	Laborers&#39; Local 75
	Ogletree Deakins
	The Karmel Law Firm

	Donor 
	Barr &amp; Camens
	DePaul University Labor Education Center
	Hunt Insurance Group
	Laborers&#39; Local 5
	Laborers&#39; Local 1035
	NPMHU Local 306
	Sprinkler Fitters Local 281

	Sponsorship Levels

	Steward Sponsor $10,000+

	
		Recognition as an event sponsor in all event program books, in the PBF newsletter and on website
	
		Cover Ad in program book
	
		Recognition from the podium during the Awards Presentation
	
		Business Name/logo in Power Point display
	
		Sixteen reservations to the reception


	Guardian Sponsor $5,000

	
		Recognition as the event sponsor in all event program books, in the PBF newsletter and on website
	
		Cover or Center Ad in program book
	
		Recognized from the podium during the Awards Presentation
	
		Business Name/logo in Power Point display
	
		Eight reservations to the reception


	Fellow Sponsor $2,500

	
		Recognition in all event program books and on website
	
		Gold Page Ad in program book
	
		Business Name/logo in Power Point display
	
		Four reservations to the reception


	Advocate Sponsor $1,000

	
		Recognition in all event program books and on website
	
		Full Page Ad in program book
	
		Business Name/logo in Power Point display
	
		Two reservations to the reception


	Levels Below Do Not Include Reservations to the Reception or Ads in the Program Book!

	Friend $500

	
		Listing in&nbsp;event program and on website


	Donor $250

	
		Listing in&nbsp;event program and on website


	Supporter $100

	
		Listing in event program


	Program Book Ads - Do Not Include Reservations!

	
		$1,000 Gold Page Ad (4.5&rdquo;W x 7.5&rdquo;H) Gold Ink
	
		$500 Full Page Ad B/W (4.5&rdquo;W x 7.5&rdquo;H)
	
		$400 Half Page Ad B/W (4.5&rdquo;W x 3.5&rdquo;H)


	Go To Sponsorship Form
		
LOCATION:Chicago, IL - US - 140 East Walton Place
DTSTART:20171114T180000
DTEND:20171114T210000
END:VEVENT
END:VCALENDAR
