
BEGIN:VCALENDAR
VERSION:1.0
BEGIN:VEVENT
SUMMARY:New York Awards Reception
DESCRIPTION:
	The Peggy Browning Fund&#39;s New York Awards Reception recognizes leaders in the region for their achievements on behalf of workers.

	The reception begins at 5:30 p.m. with cocktails, networking and buffet.&nbsp; The awards ceremony begins at 7:15 p.m.

	Honoring:

	Richard Lanigan, President, OPEIU
	William Hill, Vice Chair, BAC &amp; President, Tile, Marble &amp; Terrazzo Local 7
	John E. Sands, Esq., Arbitrator and Mediator

	Host Committee

	Vincent Alvarez&nbsp;&nbsp; Michael Artz&nbsp;&nbsp; Jane Lauer Barker &nbsp; Esta Bigler &nbsp; Richard Brean&nbsp;&nbsp; Daniel Brent &nbsp; Mario Cilento &nbsp; Jack Cusumano &nbsp; Barbara Deinhardt &nbsp; John Durso &nbsp; Niraj Ginatra&nbsp; Deborah Gaines &nbsp;&nbsp; Michael Goodwin &nbsp; Matt Guy &nbsp; Rhonda Gelman Kelley&nbsp;&nbsp; James Kokolas &nbsp; Gary LaBarbera &nbsp; Ann Lesser &nbsp; Randi Lowitt &nbsp; Joseph Lurie&nbsp;&nbsp; Mary Anne Moffa&nbsp;&nbsp; Jay Nadelbach&nbsp;&nbsp; Wayne Outten&nbsp;&nbsp; Vincent Pitta&nbsp;&nbsp; William Reilly&nbsp;&nbsp; Richard Resnick&nbsp;&nbsp; Lynn Rhinehart&nbsp;&nbsp; Jay Smith&nbsp;&nbsp; Patrick Szymanski&nbsp;&nbsp; Rosemary Townley&nbsp;&nbsp; Devki Virk&nbsp;&nbsp; Gwynne Wilcox

	SPONSORS (As of April 18, 2018)

	Steward
	Office of Professional Employees Int&#39;l Union

	Guardian
	Bricklayers &amp; Allied Craftworkers Int&#39;l Union
	Bricklayers &amp; Allied Craftworkers Local 7 NY/NJ
	Iron Workers Local 580
	IUOE Local 94
	NY Hotel Trades Council/UNITE HERE! Local 6
	OPEIU Local 277
	Pitta LLP/Pitta Bishop &amp; Del Giorno LLC
	Port Authority PBA

	Fellow
	1199 SEIU
	Colleran, O&#39;Hara &amp; Mills
	Communications Workers of America
	Davis &amp; Ferber LLP
	Empire BlueCross BlueShield
	Enterprise Assoc. of Steamfitters Local 638
	IUPAT District Council 9
	Law Offices of Joseph A. Romano PC
	Marshall &amp; Moss Administrative Services Inc.
	Plumbers Local 1
	John E. Sands, Esq.

	Advocate
	1199 SEIU Labor Management Initiatives Inc.
	Richard Adelman
	Amalgamated Life Insurance Company
	Building &amp; Constructions Trades Council of Gtr New York
	CWA Local 1180
	Eberts and Harrison, Inc.
	Gorlick, Kravitz &amp; Listhaus PC
	Healthcare Education Project
	Littler Mendelson Foundation, Inc.
	National Assoc. of Letter Carriers
	New York City Central Labor Council
	PFK O&#39;Connor Davies LLP
	Scheinman Arbitration &amp; Mediation Services
	SEIU Local 32BJ
	Virginia &amp; Ambinder LLP

	Friend
	Bridge &amp; Tunnel Officers Benevolent Assoc.
	IUOE Local 15, 15A, 15B, 15C, 15D
	Gary Kendellen
	George Nicolau
	OPEIU Local 30
	OPEIU Local 600
	Seyfarth Shaw LLP

	Donor
	Jane Lauer Barker
	Nancy E. Hoffman
	Philip L. Maier
	OPEIU Local 494
	Barbara and Allan Topol

	Sponsorship Levels

	Steward Sponsor $10,000+

	
		Recognition as an event sponsor in all event program books, in the PBF newsletter and on website
	
		Cover Ad in program book
	
		Recognition from the podium during the Awards Presentation
	
		Business Name/logo in Power Point display
	
		Twenty reservations to the reception (2 tables)


	Guardian Sponsor $5,000

	
		Recognition as the event sponsor in all event program books, in the PBF newsletter and on website
	
		Cover or Center Ad in program book
	
		Recognized from the podium during the Awards Presentation
	
		Business Name/logo in Power Point display
	
		Ten reservations to the reception (1Table)


	Fellow Sponsor $2,500

	
		Recognition in all event program books and on website
	
		Gold Page Ad in program book
	
		Business Name/logo in Power Point display
	
		Four reservations to the reception


	Advocate Sponsor $1,000

	
		Recognition in all event program books and on website
	
		Full Page Ad in program book
	
		Business Name/logo in Power Point display
	
		Two reservations to the reception


	Levels Below Do Not Include Reservations to the Reception or Ads in the Program Book!

	Friend $500

	
		Listing in&nbsp;event program and on website


	Donor $250

	
		Listing in&nbsp;event program and on website


	Supporter $100

	
		Listing in event program


	Program Book Ads - Do Not Include Reservations!

	
		$1,000 Gold Page Ad (4.5&rdquo;W x 7.5&rdquo;H) Gold Ink
	
		$400 Full Page Ad B/W (4.5&rdquo;W x 7.5&rdquo;H)
	
		$300 Half Page Ad B/W (4.5&rdquo;W x 3.5&rdquo;H)


	
		Go To Sponsorship Form

		
LOCATION:New York, NY - US - 811 Seventh Avenue & 53rd Street
DTSTART:20180424T173000
DTEND:20180424T203000
END:VEVENT
END:VCALENDAR
