
BEGIN:VCALENDAR
VERSION:1.0
BEGIN:VEVENT
SUMMARY:DC Awards Reception
DESCRIPTION:
	The Peggy Browning Fund&#39;s Washington, DC Awards Reception recognizes leaders in the region for their achievements on behalf of workers.

	The reception begins at 5:30 p.m. with cocktails, networking and buffet.&nbsp; The awards ceremony begins at 7:15 p.m.&nbsp; Business Attire

	Honoring:

	Kenneth E. Rigmaiden, General President, Int&#39;l Union of Painters &amp; Allied Trades
	Jennifer A. Abruzzo, Special Counsel for Strategic Initiatives, Communications Workers of America
	Georgetown Alliance of Graduate Employees

	Host Committee

	Michael Artz&nbsp;&nbsp; Nicole Berner&nbsp;&nbsp; Richard Brean&nbsp;&nbsp; Susan Davis&nbsp;&nbsp; Fred Feinstein&nbsp;&nbsp; Leah Ford&nbsp;&nbsp; Niraj Ganatra&nbsp;&nbsp; Richard Griffin&nbsp;&nbsp; Rhonda Gelman Kelley&nbsp;&nbsp; James Kokolas&nbsp;&nbsp; Joseph Kolick, Jr.&nbsp;&nbsp; Joseph Lurie&nbsp;&nbsp; Sean McGarvey&nbsp;&nbsp; Mary Anne Moffa&nbsp;&nbsp; Vincent Pitta&nbsp;&nbsp; Richard Resnick&nbsp;&nbsp; Lynn Rhinehart&nbsp;&nbsp; Judith Rivlin&nbsp;&nbsp; Jessica Rutter&nbsp;&nbsp; Liz Schuler&nbsp;&nbsp; Pat Shea&nbsp;&nbsp; Christopher Shelton&nbsp;&nbsp; Jay Smith&nbsp;&nbsp; Lafe Solomon&nbsp;&nbsp; Patrick Szymanski&nbsp;&nbsp; Devki Virk&nbsp;&nbsp; Marley Weiss&nbsp;&nbsp; Gwynne Wilcox

	Sponsors (As of 6-15-18)

	Steward
	Communications Workers of America
	Int&#39;l Union of Painters &amp; Allied Trades
	Laborers&#39; Int&#39;l Union of North America

	Guardian
	Int&#39;l Brotherhood of Boilermakers
	IUPAT District Council 9
	North America&#39;s Building Trades Unions
	Jennings Sigmond, PC
	
	Fellow
	The McKeogh Company

	Advocate
	AFL-CIO Investment Trust Corp./AFL-CIO ITC Financial, LLC
	Randy Barber
	Blue Cross/Blue Shield Nat&#39;l Labor Office
	Richard F. Griffin
	IATSE
	Int&#39;l Union of Elevator Constructors
	Invesco
	Iron Workers Int&#39;l Association
	IUOE Local 3
	NEPC, LLC
	Patricia M. Shea
	Slevin &amp; Hart, PC
	United Union of Roofers, Waterproofers &amp; Allied Workers

	Friend
	Orrin D. Baird
	Hartnett Gladney Hetterman, LLC
	Pharmaceutical Industry Labor - MGT
	Robein, Urann, Spencer, Picard &amp; Cangemi, APLC

	Donor
	John F. Dascoli, PLLC
	Ernest Dubester
	Tom A. Frail
	Lafe E. Solomon
	Jeffrey Vogt

	Sponsorship Levels

	Steward Sponsor $10,000+

	
		Recognition as an event sponsor in all event program books, in the PBF newsletter and on website
	
		Cover Ad in program book
	
		Recognition from the podium during the Awards Presentation
	
		Business Name/logo in Power Point display
	
		Sixteen reservations to the reception


	Guardian Sponsor $5,000

	
		Recognition as the event sponsor in all event program books, in the PBF newsletter and on website
	
		Cover or Center Ad in program book
	
		Recognized from the podium during the Awards Presentation
	
		Business Name/logo in Power Point display
	
		Eight reservations to the reception (1Table)


	Fellow Sponsor $2,500

	
		Recognition in all event program books and on website
	
		Gold Page Ad in program book
	
		Business Name/logo in Power Point display
	
		Four reservations to the reception


	Advocate Sponsor $1,000

	
		Recognition in all event program books and on website
	
		Full Page Ad in program book
	
		Business Name/logo in Power Point display
	
		Two reservations to the reception


	Levels Below Do Not Include Reservations to the Reception or Ads in the Program Book!

	Friend $500

	
		Listing in&nbsp;event program and on website


	Donor $250

	
		Listing in&nbsp;event program and on website


	Supporter $100

	
		Listing in event program


	Program Book Ads - Do Not Include Reservations!

	
		$1,000 Gold Page Ad (4.5&rdquo;W x 7.5&rdquo;H) Gold Ink
	
		$500 Full Page Ad B/W (4.5&rdquo;W x 7.5&rdquo;H)
	
		$400 Half Page Ad B/W (4.5&rdquo;W x 3.5&rdquo;H)


	
		Go To Sponsorship Form


	&nbsp;
		
LOCATION:Washington, DC - US - 815 Sixteenth Street
DTSTART:20180621T173000
DTEND:20180621T203000
END:VEVENT
END:VCALENDAR
